BEGIN:VCALENDAR
VERSION:2.0
PRODID:-//Rice Lake Plains Partnership - ECPv6.15.15//NONSGML v1.0//EN
CALSCALE:GREGORIAN
METHOD:PUBLISH
X-ORIGINAL-URL:https://ricelakeplains.com
X-WR-CALDESC:Events for Rice Lake Plains Partnership
REFRESH-INTERVAL;VALUE=DURATION:PT1H
X-Robots-Tag:noindex
X-PUBLISHED-TTL:PT1H
BEGIN:VTIMEZONE
TZID:America/Toronto
BEGIN:DAYLIGHT
TZOFFSETFROM:-0500
TZOFFSETTO:-0400
TZNAME:EDT
DTSTART:20180311T070000
END:DAYLIGHT
BEGIN:STANDARD
TZOFFSETFROM:-0400
TZOFFSETTO:-0500
TZNAME:EST
DTSTART:20181104T060000
END:STANDARD
BEGIN:DAYLIGHT
TZOFFSETFROM:-0500
TZOFFSETTO:-0400
TZNAME:EDT
DTSTART:20190310T070000
END:DAYLIGHT
BEGIN:STANDARD
TZOFFSETFROM:-0400
TZOFFSETTO:-0500
TZNAME:EST
DTSTART:20191103T060000
END:STANDARD
BEGIN:DAYLIGHT
TZOFFSETFROM:-0500
TZOFFSETTO:-0400
TZNAME:EDT
DTSTART:20200308T070000
END:DAYLIGHT
BEGIN:STANDARD
TZOFFSETFROM:-0400
TZOFFSETTO:-0500
TZNAME:EST
DTSTART:20201101T060000
END:STANDARD
END:VTIMEZONE
BEGIN:VEVENT
DTSTART;TZID=America/Toronto:20190705T090000
DTEND;TZID=America/Toronto:20190705T130000
DTSTAMP:20260419T124034
CREATED:20190516T041332Z
LAST-MODIFIED:20190516T045350Z
UID:1769-1562317200-1562331600@ricelakeplains.com
SUMMARY:Kids\, Cops & Canadian Tire Fishing Derby
DESCRIPTION:For 8 years\, the Ganaraska Region Conservation Authority (GRCA) has been partnering with the Municipality of Port Hope\, Ontario Parks & Rec and the Port Hope Police Service to host this annual fun fishing derby for children ages 17 & under. \n\n\n\nStay tuned for more details!
URL:https://ricelakeplains.com/event/kids-cops-canadian-tire-fishing-derby/
LOCATION:Port Hope East Marina\, 125 Mill St S\, Port Hope\, Ontario\, L1A 2S8\, Canada
ORGANIZER;CN="Ganaraska Region Conservation Authority":MAILTO:info@grca.on.ca
END:VEVENT
BEGIN:VEVENT
DTSTART;TZID=America/Toronto:20190718T103000
DTEND;TZID=America/Toronto:20190718T123000
DTSTAMP:20260419T124034
CREATED:20190516T050950Z
LAST-MODIFIED:20190516T050951Z
UID:1786-1563445800-1563453000@ricelakeplains.com
SUMMARY:LAKE OF THE BURNING PLAINS: Alderville Black Oak Savanna
DESCRIPTION:The Alderville First Nation Black Oak Savanna is situated on the edge of the Oak Ridges Moraine near the southern shores of Rice Lake. The area is home to the largest intact tract of native tallgrass prairie and oak savanna habitat left within the Rice Lake Plains. Learn about the conservation efforts used to maintain and protect this rare habitat and its biodiversity. Event offered in partnership with Alderville Black Oak Savanna and the Quinte Field Naturalists.REGISTRATION REQUIRED. Maximum 30 participants. \n\n\n\nRegister with Ewa Bednarczuk\, Ecology & Stewardship Specialist\, at ewa.bednarczuk@LTC.on.ca\, or 613-394-3915 x 252.For more information contact Lower Trent Conservation at 613-394-4829\, or by email at information@LTC.on.caDonations gratefully accepted to help us continue to offer these unique outdoor learning experiences. \n\n\n\nPart of Discovering Our Watershed (PDF).
URL:https://ricelakeplains.com/event/lake-of-the-burning-plains-alderville-black-oak-savanna/
LOCATION:Alderville Black Oak Savanna\, 8467 Northumberland County Rd 18\, Roseneath\, Ontario\, K0K 2X0\, Canada
END:VEVENT
END:VCALENDAR