BEGIN:VCALENDAR
VERSION:2.0
PRODID:-//Rice Lake Plains Partnership - ECPv6.15.15//NONSGML v1.0//EN
CALSCALE:GREGORIAN
METHOD:PUBLISH
X-WR-CALNAME:Rice Lake Plains Partnership
X-ORIGINAL-URL:https://ricelakeplains.com
X-WR-CALDESC:Events for Rice Lake Plains Partnership
REFRESH-INTERVAL;VALUE=DURATION:PT1H
X-Robots-Tag:noindex
X-PUBLISHED-TTL:PT1H
BEGIN:VTIMEZONE
TZID:America/Toronto
BEGIN:DAYLIGHT
TZOFFSETFROM:-0500
TZOFFSETTO:-0400
TZNAME:EDT
DTSTART:20180311T070000
END:DAYLIGHT
BEGIN:STANDARD
TZOFFSETFROM:-0400
TZOFFSETTO:-0500
TZNAME:EST
DTSTART:20181104T060000
END:STANDARD
BEGIN:DAYLIGHT
TZOFFSETFROM:-0500
TZOFFSETTO:-0400
TZNAME:EDT
DTSTART:20190310T070000
END:DAYLIGHT
BEGIN:STANDARD
TZOFFSETFROM:-0400
TZOFFSETTO:-0500
TZNAME:EST
DTSTART:20191103T060000
END:STANDARD
BEGIN:DAYLIGHT
TZOFFSETFROM:-0500
TZOFFSETTO:-0400
TZNAME:EDT
DTSTART:20200308T070000
END:DAYLIGHT
BEGIN:STANDARD
TZOFFSETFROM:-0400
TZOFFSETTO:-0500
TZNAME:EST
DTSTART:20201101T060000
END:STANDARD
END:VTIMEZONE
BEGIN:VEVENT
DTSTART;TZID=America/Toronto:20191005T000000
DTEND;TZID=America/Toronto:20191005T235959
DTSTAMP:20260419T152420
CREATED:20190516T054103Z
LAST-MODIFIED:20190516T054104Z
UID:1802-1570233600-1570319999@ricelakeplains.com
SUMMARY:SEED COLLECTION WORKSHOP: Goodrich-Loomis Conservation Area
DESCRIPTION:Help collect native tallgrass seeds to be used for future plantings at the restored prairie and savanna site. Make a seed bomb to take home. Event offered in partnership with the Nature Conservancy of Canada.REGISTRATION REQUIRED. \n\n\n\nRegister with Ewa Bednarczuk\, Ecology & Stewardship Specialist\, at ewa.bednarczuk@LTC.on.ca\, or 613-394-3915 x 252.For more information contact Lower Trent Conservation at 613-394-4829\, or by email at information@LTC.on.caDonations gratefully accepted to help us continue to offer these unique outdoor learning experiences. \n\n\n\nPart of Discovering Our Watershed (PDF).
URL:https://ricelakeplains.com/event/seed-collection-workshop-goodrich-loomis-conservation-area/
LOCATION:Goodrich-Loomis Conservation Area\, 1331 Pinewood School Rd.\, Castleton\, Ontario\, K0K 1M0\, Canada
END:VEVENT
BEGIN:VEVENT
DTSTART;TZID=America/Toronto:20191101T180000
DTEND;TZID=America/Toronto:20191101T210000
DTSTAMP:20260419T152420
CREATED:20190516T054601Z
LAST-MODIFIED:20190516T054602Z
UID:1804-1572631200-1572642000@ricelakeplains.com
SUMMARY:Owl Prowl
DESCRIPTION:Join Ganaraska Region Conservation Authority (GRCA) education staff on an exciting evening prowling for owls in the Ganaraska Forest. Start the evening off with a presentation before venturing out on the guided night hike in search of an owl or two.  \n\n\n\nThe\n fee to participate is $15.00 + HST per adult and $10.00 + HST per child\n (16 & under). Due to the late outdoor activity\, all participants \nmust be 8 years of age or older. \n\n\n\nSpaces are limited. Pre-registration is required by calling the GRCA at 905.885.8173.
URL:https://ricelakeplains.com/event/owl-prowl/
LOCATION:Ganaraska Forest Centre\, 10585 Cold Springs Camp Road\, Port Hope\, Ontario\, L0A 1B0\, Canada
ORGANIZER;CN="Ganaraska Region Conservation Authority":MAILTO:info@grca.on.ca
END:VEVENT
END:VCALENDAR