BEGIN:VCALENDAR
VERSION:2.0
PRODID:-//Rice Lake Plains Partnership - ECPv6.15.15//NONSGML v1.0//EN
CALSCALE:GREGORIAN
METHOD:PUBLISH
X-WR-CALNAME:Rice Lake Plains Partnership
X-ORIGINAL-URL:https://ricelakeplains.com
X-WR-CALDESC:Events for Rice Lake Plains Partnership
REFRESH-INTERVAL;VALUE=DURATION:PT1H
X-Robots-Tag:noindex
X-PUBLISHED-TTL:PT1H
BEGIN:VTIMEZONE
TZID:America/Toronto
BEGIN:DAYLIGHT
TZOFFSETFROM:-0500
TZOFFSETTO:-0400
TZNAME:EDT
DTSTART:20180311T070000
END:DAYLIGHT
BEGIN:STANDARD
TZOFFSETFROM:-0400
TZOFFSETTO:-0500
TZNAME:EST
DTSTART:20181104T060000
END:STANDARD
BEGIN:DAYLIGHT
TZOFFSETFROM:-0500
TZOFFSETTO:-0400
TZNAME:EDT
DTSTART:20190310T070000
END:DAYLIGHT
BEGIN:STANDARD
TZOFFSETFROM:-0400
TZOFFSETTO:-0500
TZNAME:EST
DTSTART:20191103T060000
END:STANDARD
BEGIN:DAYLIGHT
TZOFFSETFROM:-0500
TZOFFSETTO:-0400
TZNAME:EDT
DTSTART:20200308T070000
END:DAYLIGHT
BEGIN:STANDARD
TZOFFSETFROM:-0400
TZOFFSETTO:-0500
TZNAME:EST
DTSTART:20201101T060000
END:STANDARD
END:VTIMEZONE
BEGIN:VEVENT
DTSTART;TZID=America/Toronto:20190824T100000
DTEND;TZID=America/Toronto:20190824T130000
DTSTAMP:20260419T135538
CREATED:20190516T053137Z
LAST-MODIFIED:20190516T053610Z
UID:1796-1566640800-1566651600@ricelakeplains.com
SUMMARY:BOTANICAL WONDERS: Goodrich-Loomis Conservation Area
DESCRIPTION:Explore a variety of ecological communities including one of eastern Ontario’s finest trout streams\, remnant prairie\, oak savanna\, a portion  of a provincially significant wetland\, and mature mixed forest on top of an esker. Event offered in partnership with the Field Botanists of Ontario. REGISTRATION REQUIRED. \n\n\n\nRegister with Ewa Bednarczuk\, Ecology & Stewardship Specialist\, at ewa.bednarczuk@LTC.on.ca\, or 613-394-3915 x 252.For more information contact Lower Trent Conservation at 613-394-4829\, or by email at information@LTC.on.caDonations gratefully accepted to help us continue to offer these unique outdoor learning experiences. \n\n\n\nPart of Discovering Our Watershed (PDF).
URL:https://ricelakeplains.com/event/botanical-wonders-goodrich-loomis-conservation-area/
LOCATION:Goodrich-Loomis Conservation Area\, 1331 Pinewood School Rd.\, Castleton\, Ontario\, K0K 1M0\, Canada
END:VEVENT
END:VCALENDAR