BEGIN:VCALENDAR
VERSION:2.0
PRODID:-//Rice Lake Plains Partnership - ECPv6.15.15//NONSGML v1.0//EN
CALSCALE:GREGORIAN
METHOD:PUBLISH
X-WR-CALNAME:Rice Lake Plains Partnership
X-ORIGINAL-URL:https://ricelakeplains.com
X-WR-CALDESC:Events for Rice Lake Plains Partnership
REFRESH-INTERVAL;VALUE=DURATION:PT1H
X-Robots-Tag:noindex
X-PUBLISHED-TTL:PT1H
BEGIN:VTIMEZONE
TZID:America/Toronto
BEGIN:DAYLIGHT
TZOFFSETFROM:-0500
TZOFFSETTO:-0400
TZNAME:EDT
DTSTART:20180311T070000
END:DAYLIGHT
BEGIN:STANDARD
TZOFFSETFROM:-0400
TZOFFSETTO:-0500
TZNAME:EST
DTSTART:20181104T060000
END:STANDARD
BEGIN:DAYLIGHT
TZOFFSETFROM:-0500
TZOFFSETTO:-0400
TZNAME:EDT
DTSTART:20190310T070000
END:DAYLIGHT
BEGIN:STANDARD
TZOFFSETFROM:-0400
TZOFFSETTO:-0500
TZNAME:EST
DTSTART:20191103T060000
END:STANDARD
BEGIN:DAYLIGHT
TZOFFSETFROM:-0500
TZOFFSETTO:-0400
TZNAME:EDT
DTSTART:20200308T070000
END:DAYLIGHT
BEGIN:STANDARD
TZOFFSETFROM:-0400
TZOFFSETTO:-0500
TZNAME:EST
DTSTART:20201101T060000
END:STANDARD
END:VTIMEZONE
BEGIN:VEVENT
DTSTART;TZID=America/Toronto:20190822T100000
DTEND;TZID=America/Toronto:20190822T140000
DTSTAMP:20260419T123635
CREATED:20190808T174700Z
LAST-MODIFIED:20190808T180310Z
UID:1942-1566468000-1566482400@ricelakeplains.com
SUMMARY:Plugs for the Prairies: Hazel Bird – Part 3
DESCRIPTION:Help restore native prairie habitat to the Rice Lake Plains! Historically\, the area was dominated by massive black and white oak\, thriving switchgrass and big bluestem\, and a diverse range of wildflowers. Today\, these natural environments are badly fragmented and overgrown with non-native species. Give this globally rare habitat an edge on its competition by planting native vegetation at the Hazel Bird Nature Reserve. Questions?Contact Val Deziel\, Coordinator\, Conservation Biology: val.deziel@natureconservancy.ca
URL:https://ricelakeplains.com/event/plugs-for-the-prairies-hazel-bird-part-3/
LOCATION:Hazel Bird Nature Reserve\, 4639 Robson Rd\, Baltimore\, Ontario\, K0K 1C0\, Canada
ORGANIZER;CN="Nature Conservancy of Canada":MAILTO:nature@natureconservancy.ca
END:VEVENT
END:VCALENDAR