BEGIN:VCALENDAR
VERSION:2.0
PRODID:-//Rice Lake Plains Partnership - ECPv6.15.15//NONSGML v1.0//EN
CALSCALE:GREGORIAN
METHOD:PUBLISH
X-ORIGINAL-URL:https://ricelakeplains.com
X-WR-CALDESC:Events for Rice Lake Plains Partnership
REFRESH-INTERVAL;VALUE=DURATION:PT1H
X-Robots-Tag:noindex
X-PUBLISHED-TTL:PT1H
BEGIN:VTIMEZONE
TZID:America/Toronto
BEGIN:DAYLIGHT
TZOFFSETFROM:-0500
TZOFFSETTO:-0400
TZNAME:EDT
DTSTART:20180311T070000
END:DAYLIGHT
BEGIN:STANDARD
TZOFFSETFROM:-0400
TZOFFSETTO:-0500
TZNAME:EST
DTSTART:20181104T060000
END:STANDARD
BEGIN:DAYLIGHT
TZOFFSETFROM:-0500
TZOFFSETTO:-0400
TZNAME:EDT
DTSTART:20190310T070000
END:DAYLIGHT
BEGIN:STANDARD
TZOFFSETFROM:-0400
TZOFFSETTO:-0500
TZNAME:EST
DTSTART:20191103T060000
END:STANDARD
BEGIN:DAYLIGHT
TZOFFSETFROM:-0500
TZOFFSETTO:-0400
TZNAME:EDT
DTSTART:20200308T070000
END:DAYLIGHT
BEGIN:STANDARD
TZOFFSETFROM:-0400
TZOFFSETTO:-0500
TZNAME:EST
DTSTART:20201101T060000
END:STANDARD
END:VTIMEZONE
BEGIN:VEVENT
DTSTART;TZID=America/Toronto:20190816T100000
DTEND;TZID=America/Toronto:20190816T140000
DTSTAMP:20260419T124034
CREATED:20190808T173651Z
LAST-MODIFIED:20190808T174106Z
UID:1934-1565949600-1565964000@ricelakeplains.com
SUMMARY:Plugs for the Prairies: Barr
DESCRIPTION:Help restore native prairie habitat to the Rice Lake Plains! Historically\, the area was dominated by massive black and white oak\, thriving switchgrass and big bluestem\, and a diverse range of wildflowers. Today\, these natural environments are badly fragmented and overgrown with non-native species. Give this globally rare habitat an edge on its competition by planting native vegetation on the Nature Conservancy of Canada's Barr Property.  \n\n\n\nIf you’re interested in carpooling with other volunteers (driving\, or catching a ride) please click here. Happy travels! \n\n\n\nQuestions?Contact Val Deziel\, Coordinator\, Conservation Biology: val.deziel@natureconservancy.ca
URL:https://ricelakeplains.com/event/plugs-for-the-prairies-barr/
LOCATION:Barr Property\, 101-335 Russ Creek Rd\, Warkworth\, Ontario\, K0K 3K0\, Canada
ORGANIZER;CN="Nature Conservancy of Canada":MAILTO:nature@natureconservancy.ca
END:VEVENT
END:VCALENDAR