BEGIN:VCALENDAR
VERSION:2.0
PRODID:-//Rice Lake Plains Partnership - ECPv6.15.15//NONSGML v1.0//EN
CALSCALE:GREGORIAN
METHOD:PUBLISH
X-WR-CALNAME:Rice Lake Plains Partnership
X-ORIGINAL-URL:https://ricelakeplains.com
X-WR-CALDESC:Events for Rice Lake Plains Partnership
REFRESH-INTERVAL;VALUE=DURATION:PT1H
X-Robots-Tag:noindex
X-PUBLISHED-TTL:PT1H
BEGIN:VTIMEZONE
TZID:America/Toronto
BEGIN:DAYLIGHT
TZOFFSETFROM:-0500
TZOFFSETTO:-0400
TZNAME:EDT
DTSTART:20180311T070000
END:DAYLIGHT
BEGIN:STANDARD
TZOFFSETFROM:-0400
TZOFFSETTO:-0500
TZNAME:EST
DTSTART:20181104T060000
END:STANDARD
BEGIN:DAYLIGHT
TZOFFSETFROM:-0500
TZOFFSETTO:-0400
TZNAME:EDT
DTSTART:20190310T070000
END:DAYLIGHT
BEGIN:STANDARD
TZOFFSETFROM:-0400
TZOFFSETTO:-0500
TZNAME:EST
DTSTART:20191103T060000
END:STANDARD
BEGIN:DAYLIGHT
TZOFFSETFROM:-0500
TZOFFSETTO:-0400
TZNAME:EDT
DTSTART:20200308T070000
END:DAYLIGHT
BEGIN:STANDARD
TZOFFSETFROM:-0400
TZOFFSETTO:-0500
TZNAME:EST
DTSTART:20201101T060000
END:STANDARD
END:VTIMEZONE
BEGIN:VEVENT
DTSTART;TZID=America/Toronto:20190622T083000
DTEND;TZID=America/Toronto:20190622T171500
DTSTAMP:20260419T151258
CREATED:20190617T124811Z
LAST-MODIFIED:20190617T125517Z
UID:1887-1561192200-1561223700@ricelakeplains.com
SUMMARY:Rice Lake Plains Butterfly Count
DESCRIPTION:Get to know some of the winged wonders at the Rice Lake Plains’ unique grassland and savannah habitats! Your butterfly observations will contribute to a better understanding of the biodiversity in this area\, and help to identify where butterfly conservation efforts are needed most. This will be an official North American Butterfly Association event presented by the Rice Lake Plains Partnership. \n\n\n\n\n\n\n\n\n\nRegister Here!
URL:https://ricelakeplains.com/event/rice-lake-plains-butterfly-count/
LOCATION:Alderville Black Oak Savanna\, 8467 Northumberland County Rd 18\, Roseneath\, Ontario\, K0K 2X0\, Canada
END:VEVENT
END:VCALENDAR