BEGIN:VCALENDAR
VERSION:2.0
PRODID:-//Rice Lake Plains Partnership - ECPv6.15.15//NONSGML v1.0//EN
CALSCALE:GREGORIAN
METHOD:PUBLISH
X-WR-CALNAME:Rice Lake Plains Partnership
X-ORIGINAL-URL:https://ricelakeplains.com
X-WR-CALDESC:Events for Rice Lake Plains Partnership
REFRESH-INTERVAL;VALUE=DURATION:PT1H
X-Robots-Tag:noindex
X-PUBLISHED-TTL:PT1H
BEGIN:VTIMEZONE
TZID:America/Toronto
BEGIN:DAYLIGHT
TZOFFSETFROM:-0500
TZOFFSETTO:-0400
TZNAME:EDT
DTSTART:20180311T070000
END:DAYLIGHT
BEGIN:STANDARD
TZOFFSETFROM:-0400
TZOFFSETTO:-0500
TZNAME:EST
DTSTART:20181104T060000
END:STANDARD
BEGIN:DAYLIGHT
TZOFFSETFROM:-0500
TZOFFSETTO:-0400
TZNAME:EDT
DTSTART:20190310T070000
END:DAYLIGHT
BEGIN:STANDARD
TZOFFSETFROM:-0400
TZOFFSETTO:-0500
TZNAME:EST
DTSTART:20191103T060000
END:STANDARD
BEGIN:DAYLIGHT
TZOFFSETFROM:-0500
TZOFFSETTO:-0400
TZNAME:EDT
DTSTART:20200308T070000
END:DAYLIGHT
BEGIN:STANDARD
TZOFFSETFROM:-0400
TZOFFSETTO:-0500
TZNAME:EST
DTSTART:20201101T060000
END:STANDARD
END:VTIMEZONE
BEGIN:VEVENT
DTSTART;TZID=America/Toronto:20190608T100000
DTEND;TZID=America/Toronto:20190608T120000
DTSTAMP:20260419T151258
CREATED:20190516T034035Z
LAST-MODIFIED:20190516T044918Z
UID:1766-1559988000-1559995200@ricelakeplains.com
SUMMARY:Invasive Plants Walk
DESCRIPTION:Do you think you could tell the difference between Queen Anne’s Lace and Wild Parsnip? If you found a patch of Giant Hogweed\, would you know where to report it? \n\n\n\nLearn this and much more during an informative and educational walk through the Ganaraska Region Conservation Authority's (GRCA) Millennium Conservation Area with GRCA’s Watershed Biologist. \n\n\n\nThere is no cost to attend this event\, but pre-registration is required by calling the GRCA at 905.885.8173.
URL:https://ricelakeplains.com/event/invasive-plants-walk/
LOCATION:Ganaraska Region Conservation Authority\, 2216 County Road 28\, Port Hope\, L1A 3V8\, Canada
ORGANIZER;CN="Ganaraska Region Conservation Authority":MAILTO:info@grca.on.ca
END:VEVENT
END:VCALENDAR