BEGIN:VCALENDAR
VERSION:2.0
PRODID:-//Rice Lake Plains Partnership - ECPv6.15.15//NONSGML v1.0//EN
CALSCALE:GREGORIAN
METHOD:PUBLISH
X-ORIGINAL-URL:https://ricelakeplains.com
X-WR-CALDESC:Events for Rice Lake Plains Partnership
REFRESH-INTERVAL;VALUE=DURATION:PT1H
X-Robots-Tag:noindex
X-PUBLISHED-TTL:PT1H
BEGIN:VTIMEZONE
TZID:America/Toronto
BEGIN:DAYLIGHT
TZOFFSETFROM:-0500
TZOFFSETTO:-0400
TZNAME:EDT
DTSTART:20180311T070000
END:DAYLIGHT
BEGIN:STANDARD
TZOFFSETFROM:-0400
TZOFFSETTO:-0500
TZNAME:EST
DTSTART:20181104T060000
END:STANDARD
BEGIN:DAYLIGHT
TZOFFSETFROM:-0500
TZOFFSETTO:-0400
TZNAME:EDT
DTSTART:20190310T070000
END:DAYLIGHT
BEGIN:STANDARD
TZOFFSETFROM:-0400
TZOFFSETTO:-0500
TZNAME:EST
DTSTART:20191103T060000
END:STANDARD
BEGIN:DAYLIGHT
TZOFFSETFROM:-0500
TZOFFSETTO:-0400
TZNAME:EDT
DTSTART:20200308T070000
END:DAYLIGHT
BEGIN:STANDARD
TZOFFSETFROM:-0400
TZOFFSETTO:-0500
TZNAME:EST
DTSTART:20201101T060000
END:STANDARD
END:VTIMEZONE
BEGIN:VEVENT
DTSTART;TZID=America/Toronto:20190530T100000
DTEND;TZID=America/Toronto:20190530T140000
DTSTAMP:20260419T151715
CREATED:20190515T211635Z
LAST-MODIFIED:20190520T190414Z
UID:1747-1559210400-1559224800@ricelakeplains.com
SUMMARY:Plugs for the Prairies: Van Hove Part 1
DESCRIPTION:Photo by Mark Bernards\n\n\n\nHelp restore rare prairie habitat to the Rice Lake Plains! \nHistorically\, the Rice Lake Plains were covered with tall grass prairies\n and oak savannah\, which were dominated by massive black and white oak\, \ngrasses like big bluestem and switchgrass thrived and a diverse range of\n wildflowers blossomed. Today\, the oak savannah and tall grass prairie \nof the Rice Lake Plains are badly fragmented and overgrown with \nnon-native species. Help give this globally rare habitat a comeback by \nplanting native prairie species plugs on our Van Hove property. \n\n\n\nIf you’re interested in carpooling with other volunteers (driving\, or catching a ride) please click here. Happy travels! \n\n\n\nQuestions?Contact Val Deziel\, Coordinator\, Conservation Biology: Val.deziel@natureconservancy.ca
URL:https://ricelakeplains.com/event/plugs-for-the-prairies-van-hove-part-1/
LOCATION:Van Hove Evens Property\, 560-108 Red Cloud School Rd.\, Warkworth\, Ontario\, K0K 3K0\, Canada
ORGANIZER;CN="Nature Conservancy of Canada":MAILTO:nature@natureconservancy.ca
END:VEVENT
END:VCALENDAR